BEGIN:VCALENDAR
VERSION:2.0
PRODID:-//The Garden&#039;s Edge - ECPv6.15.3//NONSGML v1.0//EN
CALSCALE:GREGORIAN
METHOD:PUBLISH
X-ORIGINAL-URL:https://draft.gardensedge.org
X-WR-CALDESC:Events for The Garden&#039;s Edge
REFRESH-INTERVAL;VALUE=DURATION:PT1H
X-Robots-Tag:noindex
X-PUBLISHED-TTL:PT1H
BEGIN:VTIMEZONE
TZID:America/Los_Angeles
BEGIN:DAYLIGHT
TZOFFSETFROM:-0800
TZOFFSETTO:-0700
TZNAME:PDT
DTSTART:20160313T100000
END:DAYLIGHT
BEGIN:STANDARD
TZOFFSETFROM:-0700
TZOFFSETTO:-0800
TZNAME:PST
DTSTART:20161106T090000
END:STANDARD
END:VTIMEZONE
BEGIN:VTIMEZONE
TZID:America/New_York
BEGIN:DAYLIGHT
TZOFFSETFROM:-0500
TZOFFSETTO:-0400
TZNAME:EDT
DTSTART:20160313T070000
END:DAYLIGHT
BEGIN:STANDARD
TZOFFSETFROM:-0400
TZOFFSETTO:-0500
TZNAME:EST
DTSTART:20161106T060000
END:STANDARD
END:VTIMEZONE
BEGIN:VTIMEZONE
TZID:America/Denver
BEGIN:DAYLIGHT
TZOFFSETFROM:-0700
TZOFFSETTO:-0600
TZNAME:MDT
DTSTART:20150308T090000
END:DAYLIGHT
BEGIN:STANDARD
TZOFFSETFROM:-0600
TZOFFSETTO:-0700
TZNAME:MST
DTSTART:20151101T080000
END:STANDARD
BEGIN:DAYLIGHT
TZOFFSETFROM:-0700
TZOFFSETTO:-0600
TZNAME:MDT
DTSTART:20160313T090000
END:DAYLIGHT
BEGIN:STANDARD
TZOFFSETFROM:-0600
TZOFFSETTO:-0700
TZNAME:MST
DTSTART:20161106T080000
END:STANDARD
END:VTIMEZONE
BEGIN:VEVENT
DTSTART;TZID=America/Los_Angeles:20160909T160000
DTEND;TZID=America/Los_Angeles:20160909T190000
DTSTAMP:20260424T211651
CREATED:20160901T030606Z
LAST-MODIFIED:20160901T030606Z
UID:537-1473436800-1473447600@draft.gardensedge.org
SUMMARY:Seed Saving Workshop + Amaranth Dinner Festival
DESCRIPTION:Much gratitude to End World Hunger and the Sonoma Ecology Center for hosting a workshop and dinner festival fundraiser to support the work of Qachuu Aloom! Join us for a festival at Sonoma Garden Park to meet Qachuu Aloom farmers and learn about saving seed\, and one of our favorite seeds: amaranth! \nIn addition to the workshop\, enjoy music by the Batacha Quartet and food from the Lovin’ Oven. \nTicket Information\nPurchase tickets for the workshop for only $5. Purchase tickets for the workshop and dinner (which will be delicious!) for $25. All funds raised go directly to Qachuu Aloom. \nPurchase tickets here!
URL:https://draft.gardensedge.org/event/amaranth-dinner-festival/
LOCATION:Sonoma Garden Park\, 19996 7th Street East\, Sonoma\, CA\, 95476\, United States
ATTACH;FMTTYPE=image/jpeg:https://draft.gardensedge.org/wp-content/uploads/2016/08/EndWorldHunger2016Event.jpg
END:VEVENT
BEGIN:VEVENT
DTSTART;TZID=America/Los_Angeles:20160730T120000
DTEND;TZID=America/Los_Angeles:20160730T140000
DTSTAMP:20260424T211651
CREATED:20160715T024647Z
LAST-MODIFIED:20160715T024647Z
UID:525-1469880000-1469887200@draft.gardensedge.org
SUMMARY:Amaranth Greens Cooking Demo
DESCRIPTION:In early June\, we planted amaranth with Community Services Unlimited\, Inc. On July 30th\, join us to learn how to cook delicious meals using healthy amaranth greens in your home! \nFrom the organizers:\nMaya farmers from The Qachuu Aloom Association in Guatemala are sharing their Amaranth seeds across the Americas and beyond. Through passing on the Amaranth seeds we build connections\, friendships\, and a movement. Each of the amaranth fields we help plant in Guatemala\, New Mexico\, and California bring us new lessons and connections. \nIn Guatemala we first experienced amaranth through the Kaqchikel Maya women. They taught the Maya Achi women of Qachuu Aloom how to plant\, cook\, and prepare amaranth. As the women planted\, they shared stories of hardship\, war\, and motherhood. Among tears shed\, there was also much laughter. Years later the women of Qachuu Aloom still plant Amaranth-hundreds of fields are spread across 24 villages. We use this ancient grain that was once abundant in Maya culture in our maternal health project and it brings income\, improves nutrition\, and re-connects families. \nQachuu Aloom families continue to share this seed. Their journey has taken them to the pueblos of New Mexico\, Arizona\, and California. Each Amaranth Field we plant is used forfarmer-to-farmer exchanges\, community workshops\, and events around seeds\, plants\, food\, and sustainable practices. Amaranth fields are statements of our connection to each other\, the land\, and the food we labor to grow. Seed sharing embodies our personal and collective agency. \nWe hope these events will be a time to reawaken the excitement and awe that comes from witnessing what germinates from a tiny seed and time spent together. The experience of growing these seeds together is the experience of being stronger together in this time of urgent need for change\, and it can start with just a few seeds.
URL:https://draft.gardensedge.org/event/amaranth-greens-csuinc/
LOCATION:Community Services Unlimited\, Inc. Expo Farm\, 3990 Bill Robertson Lane\, Los Angeles\, CA\, 90042\, United States
ATTACH;FMTTYPE=image/jpeg:https://draft.gardensedge.org/wp-content/uploads/2016/07/AmaranthGreensCooked.jpg
END:VEVENT
BEGIN:VEVENT
DTSTART;TZID=America/Los_Angeles:20160723T100000
DTEND;TZID=America/Los_Angeles:20160723T120000
DTSTAMP:20260424T211651
CREATED:20160715T013658Z
LAST-MODIFIED:20160715T013804Z
UID:518-1469268000-1469275200@draft.gardensedge.org
SUMMARY:Amaranth Greens\, Seed Jars\, and Art
DESCRIPTION:In early June\, we planted amaranth with community members at the Milagro Allegro Community Garden. On July 23rd\, come to the Garden to learn about using amaranth greens. \nFrom the organizers:\nMaya farmers from The Qachuu Aloom Association in Guatemala are sharing their Amaranth seeds across the Americas and beyond. Through passing on the Amaranth seeds we build connections\, friendships\, and a movement. Each of the amaranth fields we help plant in Guatemala\, New Mexico\, and California bring us new lessons and connections. \nIn Guatemala we first experienced amaranth through the Kaqchikel Maya women. They taught the Maya Achi women of Qachuu Aloom how to plant\, cook\, and prepare amaranth. As the women planted\, they shared stories of hardship\, war\, and motherhood. Among tears shed\, there was also much laughter. Years later the women of Qachuu Aloom still plant Amaranth-hundreds of fields are spread across 24 villages. We use this ancient grain that was once abundant in Maya culture in our maternal health project and it brings income\, improves nutrition\, and re-connects families. \nQachuu Aloom families continue to share this seed. Their journey has taken them to the pueblos of New Mexico\, Arizona\, and California. Each Amaranth Field we plant is used for farmer-to-farmer exchanges\, community workshops\, and events around seeds\, plants\, food\, and sustainable practices. Amaranth fields are statements of our connection to each other\, the land\, and the food we labor to grow. Seed sharing embodies our personal and collective agency. \nWe hope these events will be a time to reawaken the excitement and awe that comes from witnessing what germinates from a tiny seed and time spent together. The experience of growing these seeds together is the experience of being stronger together in this time of urgent need for change\, and it can start with just a few seeds.
URL:https://draft.gardensedge.org/event/amaranth-greens-milagro-allegro/
LOCATION:Milagro Allegro Community Farm\, 115 S. Ave 56\, Los Angeles\, CA\, 90042\, United States
ATTACH;FMTTYPE=image/jpeg:https://draft.gardensedge.org/wp-content/uploads/2016/07/AmaranthGreens.jpg
END:VEVENT
BEGIN:VEVENT
DTSTART;VALUE=DATE:20160716
DTEND;VALUE=DATE:20160717
DTSTAMP:20260424T211651
CREATED:20160628T003732Z
LAST-MODIFIED:20160628T004032Z
UID:513-1468627200-1468713599@draft.gardensedge.org
SUMMARY:Amaranth Greens Class
DESCRIPTION:In early June\, we planted amaranth at the Seed Library of Los Angeles. On July 16th\, come to SLOLA to learn about using amaranth greens. \nPLEASE NOTE\, TIME IS STILL TO BE DETERMINED. \nFrom the organizers:\nMaya farmers from The Qachuu Aloom Association in Guatemala are sharing their Amaranth seeds across the Americas and beyond. Through passing on the Amaranth seeds we build connections\, friendships\, and a movement. Each of the amaranth fields we help plant in Guatemala\, New Mexico\, and California bring us new lessons and connections. \nIn Guatemala we first experienced amaranth through the Kaqchikel Maya women. They taught the Maya Achi women of Qachuu Aloom how to plant\, cook\, and prepare amaranth. As the women planted\, they shared stories of hardship\, war\, and motherhood. Among tears shed\, there was also much laughter. Years later the women of Qachuu Aloom still plant Amaranth-hundreds of fields are spread across 24 villages. We use this ancient grain that was once abundant in Maya culture in our maternal health project and it brings income\, improves nutrition\, and re-connects families. \nQachuu Aloom families continue to share this seed. Their journey has taken them to the pueblos of New Mexico\, Arizona\, and California. Each Amaranth Field we plant is used for farmer-to-farmer exchanges\, community workshops\, and events around seeds\, plants\, food\, and sustainable practices. Amaranth fields are statements of our connection to each other\, the land\, and the food we labor to grow. Seed sharing embodies our personal and collective agency. \nWe hope these events will be a time to reawaken the excitement and awe that comes from witnessing what germinates from a tiny seed and time spent together. The experience of growing these seeds together is the experience of being stronger together in this time of urgent need for change\, and it can start with just a few seeds.
URL:https://draft.gardensedge.org/event/slola-amaranth-greens/
LOCATION:Seed Library of Los Angeles\, 13000 Venice Blvd.\, Venice\, CA\, 90066\, United States
CATEGORIES:Class
ATTACH;FMTTYPE=image/jpeg:https://draft.gardensedge.org/wp-content/uploads/2015/04/BlancaAmaranth_1170.jpg
END:VEVENT
BEGIN:VEVENT
DTSTART;TZID=America/New_York:20160625T120000
DTEND;TZID=America/New_York:20160625T160000
DTSTAMP:20260424T211651
CREATED:20160528T021249Z
LAST-MODIFIED:20160614T050826Z
UID:496-1466856000-1466870400@draft.gardensedge.org
SUMMARY:Bienvenidas Party
DESCRIPTION:Bienvenidas! Join us at a welcome party at Churchville Park! \nThis is a great opportunity to meet with Garden’s Edge and Qachuu Aloom supporters from the Presbytery of Genesee Valley. We are so excited to see old friends who have come to visit Rabinal\, and to meet new friends and members of Gates and Batavia Presbyterian Churches! \nThis trip is being made possibly by a Triple Play Grant from the Presbytery of Genesee Valley\, Gates Presbyterian Church\, and First Presbyterian Church of Batavia. We have also received support for this trip from the Paul and Josephine Wenger Fund from the First Unitarian Church of Rochester. Thank you to all who have contributed to our programming\, we couldn’t do it without you! \nA map of the park can be found at this link – we will be at the Anderson Shelter off of Beechwood Drive.
URL:https://draft.gardensedge.org/event/bienvenidas-party/
LOCATION:Anderson Shelter in Churchville Park\, N Main St & Kendall Rd\, Churchville\, NY\, 14428\, United States
ATTACH;FMTTYPE=image/jpeg:https://draft.gardensedge.org/wp-content/uploads/2015/08/PresBigGroup_1170-e1438819821106.jpg
END:VEVENT
BEGIN:VEVENT
DTSTART;TZID=America/New_York:20160624T170000
DTEND;TZID=America/New_York:20160624T200000
DTSTAMP:20260424T211651
CREATED:20160528T020244Z
LAST-MODIFIED:20160614T045347Z
UID:493-1466787600-1466798400@draft.gardensedge.org
SUMMARY:Potluck Dinner and Meet 'n' Greet at Batavia Presbyterian
DESCRIPTION:Join us for a potluck dinner at Batavia Presbyterian Church on Thursday\, June 24.  Qachuu Aloom volunteers and Staff will be there for a meet ‘n’ greet with members and visitors to talk about their experiences. \nThis trip is being made possibly by a Triple Play Grant from the Presbytery of Genesee Valley\, Gates Presbyterian Church\, and First Presbyterian Church of Batavia. We have also received support for this trip from the Paul and Josephine Wenger Fund from the First Unitarian Church of Rochester. Thank you to all who have contributed to our programming\, we couldn’t do it without you!
URL:https://draft.gardensedge.org/event/batavia-meet-n-greet/
LOCATION:Batavia Presbyterian Church\, 300 E Main St\, Batavia\, NY\, 14020\, United States
CATEGORIES:Meet 'n' Greet,Potluck
ATTACH;FMTTYPE=image/jpeg:https://draft.gardensedge.org/wp-content/uploads/2015/08/PresBigGroup_1170-e1438819821106.jpg
END:VEVENT
BEGIN:VEVENT
DTSTART;TZID=America/Denver:20160618T160000
DTEND;TZID=America/Denver:20160618T180000
DTSTAMP:20260424T211651
CREATED:20160528T022546Z
LAST-MODIFIED:20160615T042826Z
UID:498-1466265600-1466272800@draft.gardensedge.org
SUMMARY:The Garden's Edge NM Annual Fundraiser
DESCRIPTION:Please join us on Saturday\, June 18th for our annual fundraiser in Albuquerque\, NM! \nThis year for our fundraiser\, we are trying something new to highlight our maternal health and nutrition program. We will be celebrating babies\, nutrition\, and family\, during our event called La Cuarentena: 40 Days to Bring Light. \nYou will have the opportunity to learn more about our nutrition programming and meet some of our staff and scholarship students who are doing the work on the ground! We will have a small ceremony to bless children based on Maya tradition. We will combine this ceremony with the idea of a Global Baby Shower to honor the babies we work with in Guatemala as well any special children in your own lives. \nWe invite all of our guests to bring photos of their children\, grandchildren\, adult children\, and families to receive a blessing at the ceremony \nOur nutrition team will set up a demonstration of how they conduct health assessments in the villages. There will be healthy snacks from our project to sample and other fun activities. \nBig thanks to Fusion Theatre Company and the Cell Theatre for sharing their space with us! \nParking will be available in both lots\, north and south of the Cell Theatre.
URL:https://draft.gardensedge.org/event/annual-fundraiser/
LOCATION:The Cell Theatre\, 708 1st St NW\, Albuquerque \, NM\, 87102\, United States
CATEGORIES:Fundraiser,Meet 'n' Greet
ATTACH;FMTTYPE=image/jpeg:https://draft.gardensedge.org/wp-content/uploads/2016/05/Invite_Graphic2_web.jpg
END:VEVENT
BEGIN:VEVENT
DTSTART;TZID=America/Denver:20150913T140000
DTEND;TZID=America/Denver:20150913T190000
DTSTAMP:20260424T211651
CREATED:20150826T054040Z
LAST-MODIFIED:20150826T054040Z
UID:398-1442152800-1442170800@draft.gardensedge.org
SUMMARY:Reviva Fundraiser at Marble Brewery
DESCRIPTION:Please join Reviva! and DJ Buddhafunk at Marble Brewery Downtown in support of The Garden’s Edge and Qachuu Aloom. \nThree of our friends from Qachuu Aloom will be visiting and available during the event if you have any questions about our work with Qachuu Aloom in Guatemala while you enjoy the wonderful music of Reviva and the tasty brews from Marble! \nDonations to support The Garden’s Edge are encouraged. We will be selling raffle tickets from local businesses throughout the show to support the project! \nYou can RSVP for the event and learn about updates on the event Facebook page.
URL:https://draft.gardensedge.org/event/reviva-fundraiser/
LOCATION:Marble Brewer\, 111 Marble Ave\, Albuquerque\, NM\, 87102\, United States
CATEGORIES:Fundraiser
ATTACH;FMTTYPE=image/jpeg:https://draft.gardensedge.org/wp-content/uploads/2015/08/RevivaFundraiser.jpg
END:VEVENT
BEGIN:VEVENT
DTSTART;TZID=America/Denver:20150912T180000
DTEND;TZID=America/Denver:20150912T210000
DTSTAMP:20260424T211651
CREATED:20150817T140026Z
LAST-MODIFIED:20150817T150424Z
UID:392-1442080800-1442091600@draft.gardensedge.org
SUMMARY:Annual Benefit Dinner for Garden's Edge and Qachuu Aloom
DESCRIPTION:Please join us for our Annual Benefit Dinner as we welcome the three farmers from Qachuu Aloom who will talk about the progress they have made over the past year. We will especially be highlighting our new Maternal Health & Nutrition Program. \nHonored Guests\nMaria Magdalena Avarado Ixpata\, Rosalia Asig\, and Julian Vasquez Chun \nEvent Information\nCome and enjoy dinner and music performed by a local artist before the presentation. \nYour support helps fund our sustainable agriculture projects in Guatemala and New Mexico. \nPlease RSVP below or by email: sarah@gardensedge.org \n\n  \n 
URL:https://draft.gardensedge.org/event/2015-benefit-dinner/
LOCATION:410 Atrisco NW\, Albuquerque\, NM\, 87105\, United States
ATTACH;FMTTYPE=image/jpeg:https://draft.gardensedge.org/wp-content/uploads/2015/03/contact-e1439819844310.jpg
END:VEVENT
BEGIN:VEVENT
DTSTART;TZID=America/Denver:20150903T200000
DTEND;TZID=America/Denver:20150903T220000
DTSTAMP:20260424T211651
CREATED:20150826T063744Z
LAST-MODIFIED:20150826T063744Z
UID:407-1441310400-1441317600@draft.gardensedge.org
SUMMARY:Qachuu Aloom Presentation at Beyond Baroque
DESCRIPTION:Please Join the Seed Library of Los Angeles\, Kiss The Ground\, and Environmental Change Makers as they welcome Qachuu Aloom Farmers Association and The Garden’s Edge to Beyond Baroque. \nQachuu Aloom farmers will present their work in Guatemala around farms\, gardens\, seed saving\, community health\, farmer exchanges\, education\, and economic sustainability. \n\n  \nEVENT DETAILS:\nThe farmers will present a slide show and answer questions about their project.\nLOCATION: Beyond Baroque\nADDRESS: 681 Venice Blvd\, Venice\, CA 90291\nSTART TIME: 8:00 PM \nRSVP on Facebook to receive event updates. \nEvent Sponsors include:\nSeed Library of Los Angeles\,\nKiss The Ground\,\nEnvironmental Change-Makers\, and\nMetabolic Studio. \n\n  \nAdditional information from one of the event sponsors\, Environmental Change Makers: \nWhen aid organizations brought only hybrid and GMO seeds that the farmers could not replant to grow food\, fields went barren.  A few elders brought out precious stashes of old varieties of seed that had been saved in old bottles and roof tiles.  Thus started an organization that seems to be part seed library\, part community revitalization\, and part cultural re-membering. \nHere is a beautiful story about Qachuu Aloom seed saving (pdf) as described in Baker Creek’s magazine\, and another conveying their remark that the permaculture principles are “just like I learned from my grandmother.” \nYou can RSVP to Environmental Change Makers by filling out this form.
URL:https://draft.gardensedge.org/event/qachuu-aloom-presentation-at-beyond-baroque/
LOCATION:Beyond Baroque\, 681 Venice Blvd\, Venice\, CA\, 90291\, United States
CATEGORIES:Fundraiser
END:VEVENT
BEGIN:VEVENT
DTSTART;TZID=America/Denver:20150901T180000
DTEND;TZID=America/Denver:20150901T200000
DTSTAMP:20260424T211651
CREATED:20150826T060808Z
LAST-MODIFIED:20150826T061005Z
UID:405-1441130400-1441137600@draft.gardensedge.org
SUMMARY:Semillas Sin Fronteras
DESCRIPTION:Join Milagro Allegro and Art In The Park for Semillas Sin Fronteras from 6-8 pm to celebrate the start of our Community Seed Library!! This event will feature farmers and members of Qachuu Aloom and the Garden’s Edge speaking about their own experience saving traditional seeds. \nMusic and Food\nat Milagro Allegro Community Garden\n115 S. Avenue 56\, Los Angeles\, CA 90042\n$5 donation \nFor the last twelve years\, Qachuu Aloom Farmers Association has been cultivating native seeds\, helping to revive the social ties and oral histories of the community almost lost during the prolonged civil war. Qachuu Aloom is now working towards the rights of communities to determine their food and agriculture systems in relation to culture\, health\, and sustainability. \nThe Garden’s Edge supports sustainable agriculture\, micro-enterprise\, and education in rural communities in order to revitalize cultural knowledge and improve economic well-being. \nGet event updates by RSVP-ing on Facebook!
URL:https://draft.gardensedge.org/event/semillas-sin-fronteras/
LOCATION:CA
CATEGORIES:Fundraiser
ATTACH;FMTTYPE=image/jpeg:https://draft.gardensedge.org/wp-content/uploads/2015/03/SeedsatMarket_800.jpg
END:VEVENT
END:VCALENDAR