BEGIN:VCALENDAR
VERSION:2.0
PRODID:-//The Garden&#039;s Edge - ECPv6.15.3//NONSGML v1.0//EN
CALSCALE:GREGORIAN
METHOD:PUBLISH
X-ORIGINAL-URL:https://draft.gardensedge.org
X-WR-CALDESC:Events for The Garden&#039;s Edge
REFRESH-INTERVAL;VALUE=DURATION:PT1H
X-Robots-Tag:noindex
X-PUBLISHED-TTL:PT1H
BEGIN:VTIMEZONE
TZID:America/Denver
BEGIN:DAYLIGHT
TZOFFSETFROM:-0700
TZOFFSETTO:-0600
TZNAME:MDT
DTSTART:20190310T090000
END:DAYLIGHT
BEGIN:STANDARD
TZOFFSETFROM:-0600
TZOFFSETTO:-0700
TZNAME:MST
DTSTART:20191103T080000
END:STANDARD
END:VTIMEZONE
BEGIN:VTIMEZONE
TZID:America/New_York
BEGIN:DAYLIGHT
TZOFFSETFROM:-0500
TZOFFSETTO:-0400
TZNAME:EDT
DTSTART:20160313T070000
END:DAYLIGHT
BEGIN:STANDARD
TZOFFSETFROM:-0400
TZOFFSETTO:-0500
TZNAME:EST
DTSTART:20161106T060000
END:STANDARD
END:VTIMEZONE
BEGIN:VEVENT
DTSTART;TZID=America/Denver:20190928T150000
DTEND;TZID=America/Denver:20190928T190000
DTSTAMP:20260424T151400
CREATED:20190814T183118Z
LAST-MODIFIED:20190905T200339Z
UID:1402-1569682800-1569697200@draft.gardensedge.org
SUMMARY:Community Potluck\, Harvest and Blessing for the 2019 Crops
DESCRIPTION:Please join us at our community garden in Albuquerque for a ceremonial farewell to the 2018 harvest and a warm celebratory welcome to this year’s harvest! \nThis event is a potluck\, please bring a dish to share. \nThis family-friendly event is FREE. \nGrain Harvest and Blessing for the 2019 Crop \n \n  \nCon toda gratitud a La Madre Tierra nos reunimos a honrar el ciclo vital del Amaranto. \n  \n  \n 
URL:https://draft.gardensedge.org/event/harvest-party/
LOCATION:The Garden’s Edge Community Garden\, 250 Atrisco SW\, Albuquerque\, NM\, 87105\, United States
CATEGORIES:Harvest,Meet 'n' Greet,Potluck
ATTACH;FMTTYPE=image/jpeg:https://draft.gardensedge.org/wp-content/uploads/2018/06/IMG_1463.jpg
ORGANIZER;CN="The Garden's Edge":MAILTO:sarah@gardensedge.org
END:VEVENT
BEGIN:VEVENT
DTSTART;TZID=America/Denver:20190907T130000
DTEND;TZID=America/Denver:20190907T190000
DTSTAMP:20260424T151400
CREATED:20190814T160427Z
LAST-MODIFIED:20190829T181114Z
UID:1385-1567861200-1567882800@draft.gardensedge.org
SUMMARY:Honoring our Elders and Seeds
DESCRIPTION:MA-amaranth-2019-Event \nWe invite you to gather with us to honor of the Elders who kept the seeds alive through abundant times and times of war\, genocide\, and hardship. We give thanks for their remembrance which connects us to traditional knowledge passed down from our Grandmothers and Grandfathers.  \nIt is in gratitude to the Mother Earth that we honor the cycle of life through the harvest of the Amaranth. We honor the connection we have to the soil\, water\, sun\, animals\, birds\, insects\, and ancestors. We continue to strengthen our ties to the Earth and our communities as we recall our ancestors’ knowledge.  From sowing to harvest\, we are in harmony with all living things. \nThis is a time where all the people that Qachuu Aloom and The Gardens Edge have planted with can come together in celebration and reciprocate the gift of Amaranth seeds back to the Elders of Qachuu Aloom.  \nThe seeds grown from your garden will make their journey back to Guatemala with the Elders and will be planted in the Qachuu Aloom garden\, as a symbol of our deep connection\, interdependence\, collective resistance and hope for the future.  \nSchedule\n1 pm Garden is open\, holding space for the community.  \n1:30 pm Elders Arrive    \n2 pm Welcome  \n2:15 pm Honoring the Elders gifting of the Seeds\, please come early if carrying Amaranth seeds to be  \n        gifted to the elders.  \n3:30 pm Preparation of the altar \n4:00 pm Ceremony  \n5:40 pm Pot Luck Dinner\, please bring a dish to share   \nPlease come with Amaranth seeds and stories from your harvest to share with the Elders. These Amaranth seeds carry the stories of each of the gardens where they have grown; they hold the memories from each site planted\, whether an urban center or high in the mountains\, wide-open spaces or the crack between the sidewalk. The seeds and stories will travel with the elders back to Rabinal\, Guatemala to be planted in Qachuu Aloom’s Solidarity Garden in 2020.  \nAmaranth grows wild\, it resits\, it adapts\, it feeds animals\, insects\, and people. But it does not need people to thrive\, we need Amaranth to thrive and from the Amaranth\, we learn how to live in harmony with the elements.
URL:https://draft.gardensedge.org/event/honoring-our-elders-and-seeds/
LOCATION:Milagro Allegro Community Garden\, 115 S Avenue 56\, Los Angeles\, CA\, 90042\, United States
CATEGORIES:Meet 'n' Greet,Potluck,Workshop
ATTACH;FMTTYPE=application/pdf:https://draft.gardensedge.org/wp-content/uploads/2019/08/MA-amaranth-2019.pdf
ORGANIZER;CN="The Garden's Edge":MAILTO:sarah@gardensedge.org
END:VEVENT
BEGIN:VEVENT
DTSTART;TZID=America/New_York:20160624T170000
DTEND;TZID=America/New_York:20160624T200000
DTSTAMP:20260424T151400
CREATED:20160528T020244Z
LAST-MODIFIED:20160614T045347Z
UID:493-1466787600-1466798400@draft.gardensedge.org
SUMMARY:Potluck Dinner and Meet 'n' Greet at Batavia Presbyterian
DESCRIPTION:Join us for a potluck dinner at Batavia Presbyterian Church on Thursday\, June 24.  Qachuu Aloom volunteers and Staff will be there for a meet ‘n’ greet with members and visitors to talk about their experiences. \nThis trip is being made possibly by a Triple Play Grant from the Presbytery of Genesee Valley\, Gates Presbyterian Church\, and First Presbyterian Church of Batavia. We have also received support for this trip from the Paul and Josephine Wenger Fund from the First Unitarian Church of Rochester. Thank you to all who have contributed to our programming\, we couldn’t do it without you!
URL:https://draft.gardensedge.org/event/batavia-meet-n-greet/
LOCATION:Batavia Presbyterian Church\, 300 E Main St\, Batavia\, NY\, 14020\, United States
CATEGORIES:Meet 'n' Greet,Potluck
ATTACH;FMTTYPE=image/jpeg:https://draft.gardensedge.org/wp-content/uploads/2015/08/PresBigGroup_1170-e1438819821106.jpg
END:VEVENT
END:VCALENDAR