BEGIN:VCALENDAR
VERSION:2.0
PRODID:-//The Garden&#039;s Edge - ECPv6.15.3//NONSGML v1.0//EN
CALSCALE:GREGORIAN
METHOD:PUBLISH
X-WR-CALNAME:The Garden&#039;s Edge
X-ORIGINAL-URL:https://draft.gardensedge.org
X-WR-CALDESC:Events for The Garden&#039;s Edge
REFRESH-INTERVAL;VALUE=DURATION:PT1H
X-Robots-Tag:noindex
X-PUBLISHED-TTL:PT1H
BEGIN:VTIMEZONE
TZID:America/Los_Angeles
BEGIN:DAYLIGHT
TZOFFSETFROM:-0800
TZOFFSETTO:-0700
TZNAME:PDT
DTSTART:20160313T100000
END:DAYLIGHT
BEGIN:STANDARD
TZOFFSETFROM:-0700
TZOFFSETTO:-0800
TZNAME:PST
DTSTART:20161106T090000
END:STANDARD
BEGIN:DAYLIGHT
TZOFFSETFROM:-0800
TZOFFSETTO:-0700
TZNAME:PDT
DTSTART:20170312T100000
END:DAYLIGHT
BEGIN:STANDARD
TZOFFSETFROM:-0700
TZOFFSETTO:-0800
TZNAME:PST
DTSTART:20171105T090000
END:STANDARD
BEGIN:DAYLIGHT
TZOFFSETFROM:-0800
TZOFFSETTO:-0700
TZNAME:PDT
DTSTART:20180311T100000
END:DAYLIGHT
BEGIN:STANDARD
TZOFFSETFROM:-0700
TZOFFSETTO:-0800
TZNAME:PST
DTSTART:20181104T090000
END:STANDARD
BEGIN:DAYLIGHT
TZOFFSETFROM:-0800
TZOFFSETTO:-0700
TZNAME:PDT
DTSTART:20190310T100000
END:DAYLIGHT
BEGIN:STANDARD
TZOFFSETFROM:-0700
TZOFFSETTO:-0800
TZNAME:PST
DTSTART:20191103T090000
END:STANDARD
BEGIN:DAYLIGHT
TZOFFSETFROM:-0800
TZOFFSETTO:-0700
TZNAME:PDT
DTSTART:20200308T100000
END:DAYLIGHT
BEGIN:STANDARD
TZOFFSETFROM:-0700
TZOFFSETTO:-0800
TZNAME:PST
DTSTART:20201101T090000
END:STANDARD
END:VTIMEZONE
BEGIN:VTIMEZONE
TZID:America/Denver
BEGIN:DAYLIGHT
TZOFFSETFROM:-0700
TZOFFSETTO:-0600
TZNAME:MDT
DTSTART:20190310T090000
END:DAYLIGHT
BEGIN:STANDARD
TZOFFSETFROM:-0600
TZOFFSETTO:-0700
TZNAME:MST
DTSTART:20191103T080000
END:STANDARD
END:VTIMEZONE
BEGIN:VEVENT
DTSTART;TZID=America/Los_Angeles:20200919T110000
DTEND;TZID=America/Los_Angeles:20200919T130000
DTSTAMP:20260424T164654
CREATED:20200916T170548Z
LAST-MODIFIED:20200916T183308Z
UID:1807-1600513200-1600520400@draft.gardensedge.org
SUMMARY:Amaranth Harvest - Cosecha de Amaranto
DESCRIPTION:In Solidarity and Support of The Mother Earth \nPlease RSVP for zoom link. https://forms.gle/c3TzaFKuhJAr3k4t8\n____________________________________\n\nIn Solidarity and Support of Mother Earth\n\nIt is with Gratitude that we come together in solidarity and support for Mother Earth. \nWe honor the deep connections to our ancestors\, families\, communities and ourselves. This has been a time of pain\, of healing and growth. This moment asks for us to slow down\, to strengthen our relationship to Mother Earth. \nWe are growing with the plants\, and grateful to be a part of the growth cycle\, not separate from it. We move forward taking care of the soil\, water\, sun\, animals\, and plants. We honor our ancestors for the knowledge that has been passed down. Through these practices\, our solidarity blooms. \nPlease join Qachuu Aloom\, The Garden’s Edge and all partner Seed Travels gardens as we come together for a series of virtual gatherings. \nEn solidaridad y apoyo de la Madre Tierra \nEs con gratitud que nos unimos en solidaridad y apoyo a la Madre Tierra. \nHonramos las profundas enlaces con nuestros antepasados\, familias\, comunidades y nosotros mismos. Este ha sido un momento de dolor\, de sanacion y desarrollo. Este momento nos pide calmar nuestra prisa y fortalecer nuestra relación con la Madre Tierra. \nEstamos creciendo con las plantas y estamos agradecidos de ser parte del ciclo de crecimiento\, no separado de él. Avanzamos cuidando la tierra\, el agua\, el sol\, los animales y las plantas. Honramos a nuestros antepasados por el conocimiento que nos han transmitido. A través de estas prácticas\, florece nuestra solidaridad. \nÚnase a Qachuu Aloom y the Garden’s Edge y todos los jardines asociados mientras nos reunimos para una serie de reuniones virtuales. \nTodas las reuniones se llevarán a cabo en zoom. También se grabará para compartir con los ancianos y miembros de Qachuu Aloom que no tienen acceso a Internet en tiempo real. \n\n\nZoom Amaranth Harvest with Qachuu Aloom on September 19th!\n\nGuatemala and New Mexico 12-2\, 11-1 California Time\, 2-4 New York \n\n\nThis event is brought to you by Indigenous Permaculture\, Indigenous Wellness Collective\, and The Garden’s Edge
URL:https://draft.gardensedge.org/event/amaranth-harvest-cosecha-de-amaranto/
CATEGORIES:Harvest
ATTACH;FMTTYPE=image/jpeg:https://draft.gardensedge.org/wp-content/uploads/2020/09/Resized-Amaranth.jpg
END:VEVENT
BEGIN:VEVENT
DTSTART;TZID=America/Denver:20190928T150000
DTEND;TZID=America/Denver:20190928T190000
DTSTAMP:20260424T164654
CREATED:20190814T183118Z
LAST-MODIFIED:20190905T200339Z
UID:1402-1569682800-1569697200@draft.gardensedge.org
SUMMARY:Community Potluck\, Harvest and Blessing for the 2019 Crops
DESCRIPTION:Please join us at our community garden in Albuquerque for a ceremonial farewell to the 2018 harvest and a warm celebratory welcome to this year’s harvest! \nThis event is a potluck\, please bring a dish to share. \nThis family-friendly event is FREE. \nCommunity Potluck\, Harvest and Blessing for the 2019 Crops \n \n  \nCon toda gratitud a La Madre Tierra nos reunimos a honrar el ciclo vital del Amaranto. \n  \n  \n 
URL:https://draft.gardensedge.org/event/harvest-party/
LOCATION:The Garden’s Edge Community Garden\, 250 Atrisco SW\, Albuquerque\, NM\, 87105\, United States
CATEGORIES:Harvest,Meet 'n' Greet,Potluck
ATTACH;FMTTYPE=image/jpeg:https://draft.gardensedge.org/wp-content/uploads/2018/06/IMG_1463.jpg
ORGANIZER;CN="The Garden's Edge":MAILTO:sarah@gardensedge.org
END:VEVENT
BEGIN:VEVENT
DTSTART;TZID=America/Denver:20190921T093000
DTEND;TZID=America/Denver:20190921T163000
DTSTAMP:20260424T164654
CREATED:20190814T170726Z
LAST-MODIFIED:20190822T170500Z
UID:1393-1569058200-1569083400@draft.gardensedge.org
SUMMARY:Gathering of The Seeds: Encuentro de Semillas
DESCRIPTION:Join us for a day filled with fun\, creative\, and educational activities\, as Seed: Climate Change Resilience exhibition comes to a close and SeedBroadcast\, along with community partners and local farmers share strategies for seed resilience and calls-to-action.\nDuring this free event\, visitors will have the opportunity to learn about seed saving\, participate in a community seed exchange\, harvest amaranth\, make art with Axle Contemporary Art\, and listen to an in-depth panel discussion about bioregional and indigenous arid-land agriculture\, climate change\, and seeds. \nIn the last century over 90% of all domesticated food plants and their seeds have gone extinct. \nThis accounts for thousands of years of relations from seed to seed between people\, plants\, and the land\, as co-evolving agri-Culture\, biodiversity\, and rooted sustenance. Encuentro de Semillas // Gathering of Seeds is an entire day dedicated to these agri-Cultural relationships as Seed: Climate Change Resilience exhibition comes to a close and SeedBroadcast\, along with community partners and local farmers\, share strategies for seed resilience and calls-to-action. During this event\, visitors will have the opportunity to learn about seed saving\, participate in a community seed exchange\, harvest amaranth\, make art with Axle Contemporary and Radical Intervention\, and listen to an in-depth panel discussion about bioregional and indigenous arid-land agriculture\, climate change\, and seeds. This event also marks the last weekend visitors can visit Seed: Climate Change Resilience exhibition by SeedBroadcast and partners at the Albuquerque Museum. \nEvent Schedule\n9:30 a.m. – 11:00 a.m.\nSeed Saving Workshop with Tiana Baca of The Desert Oasis Teaching Gardens and Brett Bakker of Cuatro Puertas/Arid Crop Seed Cache \n11:00 a.m. – Noon\nSeed Swap hosted by UNM Land Arts of the American West. The public is encouraged to bring seeds to exchange along with their stories. \n1:00 p.m. – 2:00 p.m.\nAmaranth Harvest with The Garden’s Edge Seed Travels at A Garden: The Birds Arrive on the northwest side of the museum. \n2:30 p.m. – 4:30 p.m.\nPanel discussion about bioregional and indigenous arid-land agriculture\, climate change\, and seeds with: Aaron Lowden\, Director of Acoma Ancestral Lands Program and Youth Farm Corp; Beata Tsosie-Peña\, Environmental Justice Program Coordinator for Tewa Women United; Ron Boyd\, Farmer in La Villita\, NM at Mergirl Gardens; Don Bustos\, Farmer in Española\, NM at Santa Cruz Farms\, and Joy Hought\, Director of Native Seeds/SEARCH. The conversation will be moderated by Rowen White\, an Akwesasne Mohawk Seed Keeper\, Director\, and Founder of Sierra Seeds. \nAll-day:\nRachel Zollinger and UNM Art & Ecology Students will create Radical Intervention\, an interactive\, temporary mural made of soil + indigenous grass seeds. This project will take place on the north wall of the museum in conjunction with the project\, A Garden: The Birds Arrive. \nJoin Axle Contemporary Art and their Potato Project making potato prints with colorful spices\, making and eating potato soup. \nPartners\nPartners for Encuentro de Semillas // Gathering of Seeds include:\nAcoma Ancestral Lands Farm Corp Program\nAlbuquerque Museum\nAxle Contemporary Art\nBrett Bakker\, Cuatro Puertas // Arid Crop Seed Cache\nDon Bustos\, Santa Cruz Farm\nEspañola Healing Foods Oasis\nMer-Girl Gardens\nTse Daa K’aan Lifelong Learning Community\nNative Seeds/SEARCH\nRachel Zollinger\, Radical Intervention\nRocky Mountain Seed Alliance\nRowen White\, Sierra Seeds\nSeedBroadcast\nTiana Baca\, The Desert Oasis Teaching Gardens\nThe Garden’s Edge\, Seed Travels\nUNM Land Arts of the American West\nUNM Art & Ecology \nThis event has been organized by SeedBroadcast in conjunction with Seed: Climate Change Resilience exhibition created by SeedBroadcast and partners at the Albuquerque Museum. Seed: Climate Change Resilience is a community-engaged arts project exploring seed\, arid-land agri-Culture\, resiliency\, and climate change. Created by SeedBroadcast\, a New Mexico based arts\, and agri-Culture collective\, in collaboration with numerous New Mexico farmers and seed stewards\, this project features an interactive public exhibition to inspire and activate dialogue and action around seed\, global warming\, local food\, healthy communities\, and the revitalization of bioregional agri-Cultural practices. This event is also a part of the Species in Peril Collaboration organized by 516 ARTS. \nSeedBroadcast is a New Mexico based arts and agri-Culture collective. \n  \n 
URL:https://draft.gardensedge.org/event/gathering-of-the-seeds/
LOCATION:Albuquerque Museum\, 2000 Mountain Rd NW\, Albuquerque\, NM 87104\, USA\, 2000 Mountain Rd NW\, Albuquerque\, NM\, 87104\, United States
CATEGORIES:Class,Harvest,Meet 'n' Greet,Workshop
ATTACH;FMTTYPE=image/jpeg:https://draft.gardensedge.org/wp-content/uploads/2019/08/IMG_3865.jpg
END:VEVENT
BEGIN:VEVENT
DTSTART;TZID=America/Los_Angeles:20160913T170000
DTEND;TZID=America/Los_Angeles:20160913T190000
DTSTAMP:20260424T164654
CREATED:20160901T023801Z
LAST-MODIFIED:20160901T023801Z
UID:535-1473786000-1473793200@draft.gardensedge.org
SUMMARY:Amaranth Harvest with the Bishop Paiute Tribe
DESCRIPTION:In early June\, we planted amaranth at with members of the Bishop Paiute Tribe’s Food Sovereignty Program. On September 13th\, join us for an amaranth harvest to reap the fruits of our labor and learn more about this healthy grain. \nFrom the organizers:\nMaya farmers from The Qachuu Aloom Association in Guatemala are sharing their Amaranth seeds across the Americas and beyond. Through passing on the Amaranth seeds we build connections\, friendships\, and a movement. Each of the amaranth fields we help plant in Guatemala\, New Mexico\, and California bring us new lessons and connections. \nIn Guatemala we first experienced amaranth through the Kaqchikel Maya women. They taught the Maya Achi women of Qachuu Aloom how to plant\, cook\, and prepare amaranth. As the women planted\, they shared stories of hardship\, war\, and motherhood. Among tears shed\, there was also much laughter. Years later the women of Qachuu Aloom still plant Amaranth-hundreds of fields are spread across 24 villages. We use this ancient grain that was once abundant in Maya culture in our maternal health project and it brings income\, improves nutrition\, and re-connects families. \nQachuu Aloom families continue to share this seed. Their journey has taken them to the pueblos of New Mexico\, Arizona\, and California. Each Amaranth Field we plant is used for farmer-to-farmer exchanges\, community workshops\, and events around seeds\, plants\, food\, and sustainable practices. Amaranth fields are statements of our connection to each other\, the land\, and the food we labor to grow. Seed sharing embodies our personal and collective agency. \nWe hope these events will be a time to reawaken the excitement and awe that comes from witnessing what germinates from a tiny seed and time spent together. The experience of growing these seeds together is the experience of being stronger together in this time of urgent need for change\, and it can start with just a few seeds.
URL:https://draft.gardensedge.org/event/bishop-paiute-harvest/
LOCATION:Bishop Paiute Food Sovereignty Program\, 50 Tu Su Lane\, Bishop\, CA\, 93514\, United States
CATEGORIES:Harvest,Workshop
ATTACH;FMTTYPE=image/jpeg:https://draft.gardensedge.org/wp-content/uploads/2015/10/JulianAmaranth_1170.jpg
END:VEVENT
END:VCALENDAR