BEGIN:VCALENDAR
VERSION:2.0
PRODID:-//The Garden&#039;s Edge - ECPv6.15.3//NONSGML v1.0//EN
CALSCALE:GREGORIAN
METHOD:PUBLISH
X-ORIGINAL-URL:https://draft.gardensedge.org
X-WR-CALDESC:Events for The Garden&#039;s Edge
REFRESH-INTERVAL;VALUE=DURATION:PT1H
X-Robots-Tag:noindex
X-PUBLISHED-TTL:PT1H
BEGIN:VTIMEZONE
TZID:America/Denver
BEGIN:DAYLIGHT
TZOFFSETFROM:-0700
TZOFFSETTO:-0600
TZNAME:MDT
DTSTART:20150308T090000
END:DAYLIGHT
BEGIN:STANDARD
TZOFFSETFROM:-0600
TZOFFSETTO:-0700
TZNAME:MST
DTSTART:20151101T080000
END:STANDARD
BEGIN:DAYLIGHT
TZOFFSETFROM:-0700
TZOFFSETTO:-0600
TZNAME:MDT
DTSTART:20160313T090000
END:DAYLIGHT
BEGIN:STANDARD
TZOFFSETFROM:-0600
TZOFFSETTO:-0700
TZNAME:MST
DTSTART:20161106T080000
END:STANDARD
BEGIN:DAYLIGHT
TZOFFSETFROM:-0700
TZOFFSETTO:-0600
TZNAME:MDT
DTSTART:20170312T090000
END:DAYLIGHT
BEGIN:STANDARD
TZOFFSETFROM:-0600
TZOFFSETTO:-0700
TZNAME:MST
DTSTART:20171105T080000
END:STANDARD
BEGIN:DAYLIGHT
TZOFFSETFROM:-0700
TZOFFSETTO:-0600
TZNAME:MDT
DTSTART:20180311T090000
END:DAYLIGHT
BEGIN:STANDARD
TZOFFSETFROM:-0600
TZOFFSETTO:-0700
TZNAME:MST
DTSTART:20181104T080000
END:STANDARD
BEGIN:DAYLIGHT
TZOFFSETFROM:-0700
TZOFFSETTO:-0600
TZNAME:MDT
DTSTART:20190310T090000
END:DAYLIGHT
BEGIN:STANDARD
TZOFFSETFROM:-0600
TZOFFSETTO:-0700
TZNAME:MST
DTSTART:20191103T080000
END:STANDARD
END:VTIMEZONE
BEGIN:VEVENT
DTSTART;TZID=America/Denver:20190927T180000
DTEND;TZID=America/Denver:20190927T200000
DTSTAMP:20260424T151413
CREATED:20190829T211251Z
LAST-MODIFIED:20190909T131057Z
UID:1446-1569607200-1569614400@draft.gardensedge.org
SUMMARY:Fundraiser Dinner and Presentation on the Impacts of Climate Change in Guatemala
DESCRIPTION:← Back Thank you for your response. ✨\n\n\n					\n						\n							\n							\n						\n						\n						\n						\n						\n							\n								\n									\n										\n										\n									\n									\n										\n										\n									\n								\n							\n						\n						\n							\n								\n									\n									\n										\n									\n									\n									\n								\n							\n						\n					\n				\n\n\n\nName(required)\n\n \n			\n				\n					\n						\n						\n						\n					\n				\n				\n			 \n	\n\n\nEmail\n\n \n			\n				\n					\n						\n						\n						\n					\n				\n				\n			 \n	\n\n\nNumber of attendees in your party?(required)\n 1 2 3 4\n			\n				\n					\n						\n						\n						\n					\n				\n				\n				\n	\n\n				\n					\n				\n						Submit		\n		\n		\n	 \nΔ \n\nPlease join us for a meal and a presentation to learn how we’re working to create climate resilience in Guatemala. We’ll talk about our Seed Saving work\, screen a short film on our new Water Restoration Project and discuss the connections between climate change and the increased migration of Guatemalans. This event is a fundraiser and all proceeds will support our work in Guatemala. \nInterested in reading more about the connections between climate change and migration? Click on these links. \nCentral American Farmers Head to the U.S.\, Fleeing Climate Change \nCentral America: Climate\, Drought\, Migration and the Border \n  \nJo \n  \nn 
URL:https://draft.gardensedge.org/event/learn-how-were-working-to-create-climate-resilience-at-the-gardens-edge/
LOCATION:The Ernie Montgomery House\, 1414 San Carlos SW Apt 4\, Albuquerque\, NM\, 87104\, United States
CATEGORIES:Fundraiser
ATTACH;FMTTYPE=image/png:https://draft.gardensedge.org/wp-content/uploads/2019/08/Fundraiser.png
END:VEVENT
BEGIN:VEVENT
DTSTART;TZID=America/Denver:20160618T160000
DTEND;TZID=America/Denver:20160618T180000
DTSTAMP:20260424T151413
CREATED:20160528T022546Z
LAST-MODIFIED:20160615T042826Z
UID:498-1466265600-1466272800@draft.gardensedge.org
SUMMARY:The Garden's Edge NM Annual Fundraiser
DESCRIPTION:Please join us on Saturday\, June 18th for our annual fundraiser in Albuquerque\, NM! \nThis year for our fundraiser\, we are trying something new to highlight our maternal health and nutrition program. We will be celebrating babies\, nutrition\, and family\, during our event called La Cuarentena: 40 Days to Bring Light. \nYou will have the opportunity to learn more about our nutrition programming and meet some of our staff and scholarship students who are doing the work on the ground! We will have a small ceremony to bless children based on Maya tradition. We will combine this ceremony with the idea of a Global Baby Shower to honor the babies we work with in Guatemala as well any special children in your own lives. \nWe invite all of our guests to bring photos of their children\, grandchildren\, adult children\, and families to receive a blessing at the ceremony \nOur nutrition team will set up a demonstration of how they conduct health assessments in the villages. There will be healthy snacks from our project to sample and other fun activities. \nBig thanks to Fusion Theatre Company and the Cell Theatre for sharing their space with us! \nParking will be available in both lots\, north and south of the Cell Theatre.
URL:https://draft.gardensedge.org/event/annual-fundraiser/
LOCATION:The Cell Theatre\, 708 1st St NW\, Albuquerque \, NM\, 87102\, United States
CATEGORIES:Fundraiser,Meet 'n' Greet
ATTACH;FMTTYPE=image/jpeg:https://draft.gardensedge.org/wp-content/uploads/2016/05/Invite_Graphic2_web.jpg
END:VEVENT
BEGIN:VEVENT
DTSTART;TZID=America/Denver:20150913T140000
DTEND;TZID=America/Denver:20150913T190000
DTSTAMP:20260424T151413
CREATED:20150826T054040Z
LAST-MODIFIED:20150826T054040Z
UID:398-1442152800-1442170800@draft.gardensedge.org
SUMMARY:Reviva Fundraiser at Marble Brewery
DESCRIPTION:Please join Reviva! and DJ Buddhafunk at Marble Brewery Downtown in support of The Garden’s Edge and Qachuu Aloom. \nThree of our friends from Qachuu Aloom will be visiting and available during the event if you have any questions about our work with Qachuu Aloom in Guatemala while you enjoy the wonderful music of Reviva and the tasty brews from Marble! \nDonations to support The Garden’s Edge are encouraged. We will be selling raffle tickets from local businesses throughout the show to support the project! \nYou can RSVP for the event and learn about updates on the event Facebook page.
URL:https://draft.gardensedge.org/event/reviva-fundraiser/
LOCATION:Marble Brewer\, 111 Marble Ave\, Albuquerque\, NM\, 87102\, United States
CATEGORIES:Fundraiser
ATTACH;FMTTYPE=image/jpeg:https://draft.gardensedge.org/wp-content/uploads/2015/08/RevivaFundraiser.jpg
END:VEVENT
BEGIN:VEVENT
DTSTART;TZID=America/Denver:20150903T200000
DTEND;TZID=America/Denver:20150903T220000
DTSTAMP:20260424T151413
CREATED:20150826T063744Z
LAST-MODIFIED:20150826T063744Z
UID:407-1441310400-1441317600@draft.gardensedge.org
SUMMARY:Qachuu Aloom Presentation at Beyond Baroque
DESCRIPTION:Please Join the Seed Library of Los Angeles\, Kiss The Ground\, and Environmental Change Makers as they welcome Qachuu Aloom Farmers Association and The Garden’s Edge to Beyond Baroque. \nQachuu Aloom farmers will present their work in Guatemala around farms\, gardens\, seed saving\, community health\, farmer exchanges\, education\, and economic sustainability. \n\n  \nEVENT DETAILS:\nThe farmers will present a slide show and answer questions about their project.\nLOCATION: Beyond Baroque\nADDRESS: 681 Venice Blvd\, Venice\, CA 90291\nSTART TIME: 8:00 PM \nRSVP on Facebook to receive event updates. \nEvent Sponsors include:\nSeed Library of Los Angeles\,\nKiss The Ground\,\nEnvironmental Change-Makers\, and\nMetabolic Studio. \n\n  \nAdditional information from one of the event sponsors\, Environmental Change Makers: \nWhen aid organizations brought only hybrid and GMO seeds that the farmers could not replant to grow food\, fields went barren.  A few elders brought out precious stashes of old varieties of seed that had been saved in old bottles and roof tiles.  Thus started an organization that seems to be part seed library\, part community revitalization\, and part cultural re-membering. \nHere is a beautiful story about Qachuu Aloom seed saving (pdf) as described in Baker Creek’s magazine\, and another conveying their remark that the permaculture principles are “just like I learned from my grandmother.” \nYou can RSVP to Environmental Change Makers by filling out this form.
URL:https://draft.gardensedge.org/event/qachuu-aloom-presentation-at-beyond-baroque/
LOCATION:Beyond Baroque\, 681 Venice Blvd\, Venice\, CA\, 90291\, United States
CATEGORIES:Fundraiser
END:VEVENT
BEGIN:VEVENT
DTSTART;TZID=America/Denver:20150901T180000
DTEND;TZID=America/Denver:20150901T200000
DTSTAMP:20260424T151413
CREATED:20150826T060808Z
LAST-MODIFIED:20150826T061005Z
UID:405-1441130400-1441137600@draft.gardensedge.org
SUMMARY:Semillas Sin Fronteras
DESCRIPTION:Join Milagro Allegro and Art In The Park for Semillas Sin Fronteras from 6-8 pm to celebrate the start of our Community Seed Library!! This event will feature farmers and members of Qachuu Aloom and the Garden’s Edge speaking about their own experience saving traditional seeds. \nMusic and Food\nat Milagro Allegro Community Garden\n115 S. Avenue 56\, Los Angeles\, CA 90042\n$5 donation \nFor the last twelve years\, Qachuu Aloom Farmers Association has been cultivating native seeds\, helping to revive the social ties and oral histories of the community almost lost during the prolonged civil war. Qachuu Aloom is now working towards the rights of communities to determine their food and agriculture systems in relation to culture\, health\, and sustainability. \nThe Garden’s Edge supports sustainable agriculture\, micro-enterprise\, and education in rural communities in order to revitalize cultural knowledge and improve economic well-being. \nGet event updates by RSVP-ing on Facebook!
URL:https://draft.gardensedge.org/event/semillas-sin-fronteras/
LOCATION:NM
CATEGORIES:Fundraiser
ATTACH;FMTTYPE=image/jpeg:https://draft.gardensedge.org/wp-content/uploads/2015/03/SeedsatMarket_800.jpg
END:VEVENT
END:VCALENDAR